BEGIN:VCALENDAR
VERSION:2.0
PRODID:-//healthworksfitnesscenter.com//NONSGML kigkonsult.se iCalcreator 2
 .30.10//
CALSCALE:GREGORIAN
METHOD:PUBLISH
UID:7637084a-91ba-46be-a5c3-f3a965bdd370
X-WR-CALDESC:
X-WR-RELCALID:4d54ff83008e893fdec6b7d1bdbfeb71
X-WR-TIMEZONE:America/Chicago
BEGIN:VTIMEZONE
TZID:America/Chicago
BEGIN:STANDARD
TZNAME:CST
DTSTART:20201101T020000
TZOFFSETFROM:-0500
TZOFFSETTO:-0600
RDATE:20211107T020000
RDATE:20221106T020000
END:STANDARD
BEGIN:DAYLIGHT
TZNAME:CDT
DTSTART:20210314T020000
TZOFFSETFROM:-0600
TZOFFSETTO:-0500
RDATE:20220313T020000
END:DAYLIGHT
END:VTIMEZONE
BEGIN:VEVENT
UID:a3043feb-0e75-45cd-8374-1826a66c5b11
DTSTAMP:20260426T034402Z
DESCRIPTION:
DTSTART;TZID=America/Chicago:20210531T000000
DTEND;TZID=America/Chicago:20210630T235900
LOCATION:https://t.e2ma.net/webview/1565ef/2ff26619a16971fc819a2ba3692eabf6
SUMMARY:Haps @ HealthWorks June 2021
END:VEVENT
END:VCALENDAR
