BEGIN:VCALENDAR
VERSION:2.0
PRODID:-//healthworksfitnesscenter.com//NONSGML kigkonsult.se iCalcreator 2
 .30.10//
CALSCALE:GREGORIAN
METHOD:PUBLISH
UID:27412258-eda2-450d-94e8-a13e27d7f158
X-WR-CALDESC:
X-WR-RELCALID:1e039243ed30c3e6be2ddf16e024e906
X-WR-TIMEZONE:America/Chicago
BEGIN:VTIMEZONE
TZID:America/Chicago
BEGIN:STANDARD
TZNAME:CST
DTSTART:20201101T020000
TZOFFSETFROM:-0500
TZOFFSETTO:-0600
RDATE:20211107T020000
RDATE:20221106T020000
END:STANDARD
BEGIN:DAYLIGHT
TZNAME:CDT
DTSTART:20210314T020000
TZOFFSETFROM:-0600
TZOFFSETTO:-0500
RDATE:20220313T020000
END:DAYLIGHT
END:VTIMEZONE
BEGIN:VEVENT
UID:232a734f-54e5-4d79-abf9-80cbb6456fae
DTSTAMP:20260426T034453Z
DESCRIPTION:
DTSTART;TZID=America/Chicago:20210522T100000
DTEND;TZID=America/Chicago:20210522T110000
LOCATION:304 N Madison Ave\, El Dorado\, AR 71730 US
SUMMARY:POP Up AQUA Stand Up
END:VEVENT
END:VCALENDAR
