BEGIN:VCALENDAR
VERSION:2.0
PRODID:-//healthworksfitnesscenter.com//NONSGML kigkonsult.se iCalcreator 2
 .30.10//
CALSCALE:GREGORIAN
METHOD:PUBLISH
UID:c1488183-2f79-4d02-a24a-042906fa6313
X-WR-CALDESC:Wear your best CAMO to be entered into a drawing for a great p
 rize!
X-WR-RELCALID:2a5ee1d4d9c3ea09292c612146e963a5
X-WR-TIMEZONE:America/Chicago
BEGIN:VTIMEZONE
TZID:America/Chicago
BEGIN:STANDARD
TZNAME:CST
DTSTART:20201101T020000
TZOFFSETFROM:-0500
TZOFFSETTO:-0600
RDATE:20211107T020000
RDATE:20221106T020000
END:STANDARD
BEGIN:DAYLIGHT
TZNAME:CDT
DTSTART:20210314T020000
TZOFFSETFROM:-0600
TZOFFSETTO:-0500
RDATE:20220313T020000
END:DAYLIGHT
END:VTIMEZONE
BEGIN:VEVENT
UID:26a818e0-d86c-4f56-9d57-434b8549b579
DTSTAMP:20260426T034336Z
DESCRIPTION:Wear your best CAMO to be entered into a drawing for a great pr
 ize!
DTSTART;TZID=America/Chicago:20210515T100000
DTEND;TZID=America/Chicago:20210515T110000
LOCATION:304 N Madison Ave\, El Dorado\, AR 71730 US
SUMMARY:National Armed Forces Day
END:VEVENT
END:VCALENDAR
