BEGIN:VCALENDAR
VERSION:2.0
PRODID:-//healthworksfitnesscenter.com//NONSGML kigkonsult.se iCalcreator 2
 .30.10//
CALSCALE:GREGORIAN
METHOD:PUBLISH
UID:04602cff-e7db-4998-91dd-62536269ddef
X-WR-CALDESC:
X-WR-RELCALID:704b1411a6a30610cf92e0e0309ad22c
X-WR-TIMEZONE:America/Chicago
BEGIN:VTIMEZONE
TZID:America/Chicago
BEGIN:STANDARD
TZNAME:CST
DTSTART:20201101T020000
TZOFFSETFROM:-0500
TZOFFSETTO:-0600
RDATE:20211107T020000
END:STANDARD
BEGIN:DAYLIGHT
TZNAME:CDT
DTSTART:20210314T020000
TZOFFSETFROM:-0600
TZOFFSETTO:-0500
RDATE:20220313T020000
END:DAYLIGHT
END:VTIMEZONE
BEGIN:VEVENT
UID:10c85e45-315a-4c8c-9e94-d4b10d8c870c
DTSTAMP:20260426T023109Z
DESCRIPTION:
DTSTART;TZID=America/Chicago:20210430T000000
DTEND;TZID=America/Chicago:20210531T235900
LOCATION:https://t.e2ma.net/webview/h2q7bf/17f42ee4bd7079f169ca5a825f4fb185
SUMMARY:Haps @ HealthWorks May 2021
END:VEVENT
END:VCALENDAR
