BEGIN:VCALENDAR
VERSION:2.0
PRODID:-//healthworksfitnesscenter.com//NONSGML kigkonsult.se iCalcreator 2
 .30.10//
CALSCALE:GREGORIAN
METHOD:PUBLISH
UID:de99666f-c801-42f7-89c9-c39a47216dd5
X-WR-CALDESC:APRIL IS NATIONAL PARKINSON’S AWARENESS MONTH and APRIL 7th is
  NATIONAL WALKING DAY!\nIn observance of this and to promote awareness of 
 our program for Parkinson’s patients\, ROCK STEADY BOXING\, we will host a
 n event on April 7th at Memorial Stadium.\nWe will meet at the Stadium at 
 10:30am and walk 8 laps together (2 miles). Friends\, family\, HFC members
  and guests are welcome to participate or to just come and cheer us on!\nA
 n opportunity to donate to our ROCK STEADY BOXING at HealthWorks will be m
 ade available. You can also donate online: https://healthworksfitnesscente
 r.com/fundraising/page.html
X-WR-RELCALID:eedc7c06fe9c56ba252dd6edae4a0e2c
X-WR-TIMEZONE:America/Chicago
BEGIN:VTIMEZONE
TZID:America/Chicago
BEGIN:STANDARD
TZNAME:CST
DTSTART:20201101T020000
TZOFFSETFROM:-0500
TZOFFSETTO:-0600
RDATE:20211107T020000
END:STANDARD
BEGIN:DAYLIGHT
TZNAME:CDT
DTSTART:20210314T020000
TZOFFSETFROM:-0600
TZOFFSETTO:-0500
RDATE:20220313T020000
END:DAYLIGHT
END:VTIMEZONE
BEGIN:VEVENT
UID:8ef053ce-8311-4093-b952-426af2d9e54b
DTSTAMP:20260426T023231Z
DESCRIPTION:APRIL IS NATIONAL PARKINSON’S AWARENESS MONTH and APRIL 7th is 
 NATIONAL WALKING DAY!\nIn observance of this and to promote awareness of o
 ur program for Parkinson’s patients\, ROCK STEADY BOXING\, we will host an
  event on April 7th at Memorial Stadium.\nWe will meet at the Stadium at 1
 0:30am and walk 8 laps together (2 miles). Friends\, family\, HFC members 
 and guests are welcome to participate or to just come and cheer us on!\nAn
  opportunity to donate to our ROCK STEADY BOXING at HealthWorks will be ma
 de available. You can also donate online: https://healthworksfitnesscenter
 .com/fundraising/page.html
DTSTART;TZID=America/Chicago:20210407T103000
DTEND;TZID=America/Chicago:20210407T113000
LOCATION:1205 N West Ave\, El Dorado\, AR 71730 US
SUMMARY:National Walking Day
END:VEVENT
END:VCALENDAR
